BEGIN:VCALENDAR
PRODID:-//event//iCal4j 1.0//EN
CALSCALE:GREGORIAN
BEGIN:VEVENT
DTSTAMP:20260424T225928Z
DTSTART:20260426T180000Z
DTEND:20260426T210000Z
SUMMARY:dia-de-los-ninos
LOCATION:
END:VEVENT
END:VCALENDAR
