BEGIN:VCALENDAR
PRODID:-//event//iCal4j 1.0//EN
CALSCALE:GREGORIAN
BEGIN:VEVENT
DTSTAMP:20260423T061111Z
DTSTART:20251101T150000Z
DTEND:20251101T200000Z
SUMMARY:day-of-the-dead-2025
LOCATION:
END:VEVENT
END:VCALENDAR
